BEGIN:VCALENDAR
VERSION:2.0
PRODID:-//hacksw/handcal//NONSGML v1.0//EN
BEGIN:VEVENT
SUMMARY:Cours deuxieme et +
UID:913aa387-8d30-477b-b533-d6ce54820e80
DTSTART:20270605T133000Z
DTEND:20270605T150000Z
LOCATION:Localisation   
CATEGORIES:Sportif
STATUS:
URL;VALUE=URI:https://archers-de-quimperle.sportsregions.fr/evenements/2027/06/05/cours-deuxieme-et-2428148
END:VEVENT
END:VCALENDAR
