BEGIN:VCALENDAR
VERSION:2.0
PRODID:-//hacksw/handcal//NONSGML v1.0//EN
BEGIN:VEVENT
SUMMARY:Entrainement libre
UID:463828a4-c471-442b-a5d8-7bfa2fee6a2d
DTSTART:20270612T150000Z
DTEND:20270612T180000Z
LOCATION:Localisation   
CATEGORIES:Sportif
STATUS:
URL;VALUE=URI:https://archers-de-quimperle.sportsregions.fr/evenements/2027/06/12/entrainement-libre-2428301
END:VEVENT
END:VCALENDAR
