BEGIN:VCALENDAR
VERSION:2.0
PRODID:-//hacksw/handcal//NONSGML v1.0//EN
BEGIN:VEVENT
SUMMARY:Cours deuxieme et +
UID:480e0244-20c7-429c-af56-767bcd963f1d
DTSTART:20270619T133000Z
DTEND:20270619T150000Z
LOCATION:Localisation   
CATEGORIES:Sportif
STATUS:
URL;VALUE=URI:https://archers-de-quimperle.sportsregions.fr/evenements/2027/06/19/cours-deuxieme-et-2428146
END:VEVENT
END:VCALENDAR
