BEGIN:VCALENDAR
VERSION:2.0
PRODID:-//hacksw/handcal//NONSGML v1.0//EN
BEGIN:VEVENT
SUMMARY:Entrainement libre
UID:08a19168-0213-4e35-aca9-2cc298c54028
DTSTART:20270619T150000Z
DTEND:20270619T180000Z
LOCATION:Localisation   
CATEGORIES:Sportif
STATUS:
URL;VALUE=URI:https://archers-de-quimperle.sportsregions.fr/evenements/2027/06/19/entrainement-libre-2428300
END:VEVENT
END:VCALENDAR
