BEGIN:VCALENDAR
VERSION:2.0
PRODID:-//hacksw/handcal//NONSGML v1.0//EN
BEGIN:VEVENT
SUMMARY:Cours premiere annee
UID:88d5c7b1-0678-4334-8ccf-1b209b0ade3e
DTSTART:20270626T120000Z
DTEND:20270626T133000Z
LOCATION:Localisation   
CATEGORIES:Sportif
STATUS:
URL;VALUE=URI:https://archers-de-quimperle.sportsregions.fr/evenements/2027/06/26/cours-premiere-annee-2427997
END:VEVENT
END:VCALENDAR
