BEGIN:VCALENDAR
VERSION:2.0
PRODID:-//hacksw/handcal//NONSGML v1.0//EN
BEGIN:VEVENT
SUMMARY:Entrainement libre
UID:1af282e6-2f39-4c6f-ba03-48cfefd26517
DTSTART:20270626T150000Z
DTEND:20270626T180000Z
LOCATION:Localisation   
CATEGORIES:Sportif
STATUS:
URL;VALUE=URI:https://archers-de-quimperle.sportsregions.fr/evenements/2027/06/26/entrainement-libre-2428305
END:VEVENT
END:VCALENDAR
