BEGIN:VCALENDAR
VERSION:2.0
PRODID:-//hacksw/handcal//NONSGML v1.0//EN
BEGIN:VEVENT
SUMMARY:Cours deuxieme et +
UID:c5094d7e-2061-4bc1-bcfe-956166546506
DTSTART:20270703T133000Z
DTEND:20270703T150000Z
LOCATION:Localisation   
CATEGORIES:Sportif
STATUS:
URL;VALUE=URI:https://archers-de-quimperle.sportsregions.fr/evenements/2027/07/03/cours-deuxieme-et-2428160
END:VEVENT
END:VCALENDAR
