BEGIN:VCALENDAR
VERSION:2.0
PRODID:-//hacksw/handcal//NONSGML v1.0//EN
BEGIN:VEVENT
SUMMARY:Cours premiere annee
UID:0cd55aad-8e20-4522-9429-74d46284c353
DTSTART:20270703T120000Z
DTEND:20270703T133000Z
LOCATION:Localisation   
CATEGORIES:Sportif
STATUS:
URL;VALUE=URI:https://archers-de-quimperle.sportsregions.fr/evenements/2027/07/03/cours-premiere-annee-2428006
END:VEVENT
END:VCALENDAR
