BEGIN:VCALENDAR
VERSION:2.0
PRODID:-//hacksw/handcal//NONSGML v1.0//EN
BEGIN:VEVENT
SUMMARY:Entrainement libre
UID:0fe37254-91bb-4418-aa83-0f60d48d5318
DTSTART:20270703T150000Z
DTEND:20270703T180000Z
LOCATION:Localisation   
CATEGORIES:Sportif
STATUS:
URL;VALUE=URI:https://archers-de-quimperle.sportsregions.fr/evenements/2027/07/03/entrainement-libre-2428314
END:VEVENT
END:VCALENDAR
