BEGIN:VCALENDAR
VERSION:2.0
PRODID:-//hacksw/handcal//NONSGML v1.0//EN
BEGIN:VEVENT
SUMMARY:Cours deuxieme et +
UID:f1006275-9a34-46b4-a869-f61662224bbf
DTSTART:20270710T133000Z
DTEND:20270710T150000Z
LOCATION:Localisation   
CATEGORIES:Sportif
STATUS:
URL;VALUE=URI:https://archers-de-quimperle.sportsregions.fr/evenements/2027/07/10/cours-deuxieme-et-2428159
END:VEVENT
END:VCALENDAR
