BEGIN:VCALENDAR
VERSION:2.0
PRODID:-//hacksw/handcal//NONSGML v1.0//EN
BEGIN:VEVENT
SUMMARY:Cours premiere annee
UID:58751bb7-1374-4f5e-92bd-3a94ff4bafcb
DTSTART:20270710T120000Z
DTEND:20270710T133000Z
LOCATION:Localisation   
CATEGORIES:Sportif
STATUS:
URL;VALUE=URI:https://archers-de-quimperle.sportsregions.fr/evenements/2027/07/10/cours-premiere-annee-2428005
END:VEVENT
END:VCALENDAR
