BEGIN:VCALENDAR
VERSION:2.0
PRODID:-//hacksw/handcal//NONSGML v1.0//EN
BEGIN:VEVENT
SUMMARY:Cours deuxieme et +
UID:e4f6b9d6-0f11-4b70-88d6-f6f9d3acbe53
DTSTART:20270717T133000Z
DTEND:20270717T150000Z
LOCATION:Localisation   
CATEGORIES:Sportif
STATUS:
URL;VALUE=URI:https://archers-de-quimperle.sportsregions.fr/evenements/2027/07/17/cours-deuxieme-et-2428158
END:VEVENT
END:VCALENDAR
