BEGIN:VCALENDAR
VERSION:2.0
PRODID:-//hacksw/handcal//NONSGML v1.0//EN
BEGIN:VEVENT
SUMMARY:Cours premiere annee
UID:b0901f91-2730-4078-96ea-0960c9b3b97d
DTSTART:20270717T120000Z
DTEND:20270717T133000Z
LOCATION:Localisation   
CATEGORIES:Sportif
STATUS:
URL;VALUE=URI:https://archers-de-quimperle.sportsregions.fr/evenements/2027/07/17/cours-premiere-annee-2428004
END:VEVENT
END:VCALENDAR
