BEGIN:VCALENDAR
VERSION:2.0
PRODID:-//hacksw/handcal//NONSGML v1.0//EN
BEGIN:VEVENT
SUMMARY:Entrainement libre
UID:368ba421-e171-4cdf-bd7a-5578210b1204
DTSTART:20270717T150000Z
DTEND:20270717T180000Z
LOCATION:Localisation   
CATEGORIES:Sportif
STATUS:
URL;VALUE=URI:https://archers-de-quimperle.sportsregions.fr/evenements/2027/07/17/entrainement-libre-2428312
END:VEVENT
END:VCALENDAR
