BEGIN:VCALENDAR
VERSION:2.0
PRODID:-//hacksw/handcal//NONSGML v1.0//EN
BEGIN:VEVENT
SUMMARY:Cours deuxieme et +
UID:9a11313d-d8bf-44e2-ab66-725da6ade1ef
DTSTART:20270724T133000Z
DTEND:20270724T150000Z
LOCATION:Localisation   
CATEGORIES:Sportif
STATUS:
URL;VALUE=URI:https://archers-de-quimperle.sportsregions.fr/evenements/2027/07/24/cours-deuxieme-et-2428157
END:VEVENT
END:VCALENDAR
