BEGIN:VCALENDAR
VERSION:2.0
PRODID:-//hacksw/handcal//NONSGML v1.0//EN
BEGIN:VEVENT
SUMMARY:Cours premiere annee
UID:b122e763-f1c5-4a94-bc54-e65e77953319
DTSTART:20270724T120000Z
DTEND:20270724T133000Z
LOCATION:Localisation   
CATEGORIES:Sportif
STATUS:
URL;VALUE=URI:https://archers-de-quimperle.sportsregions.fr/evenements/2027/07/24/cours-premiere-annee-2428003
END:VEVENT
END:VCALENDAR
