BEGIN:VCALENDAR
VERSION:2.0
PRODID:-//hacksw/handcal//NONSGML v1.0//EN
BEGIN:VEVENT
SUMMARY:Entrainement libre
UID:8de6a2e3-d242-4bb9-bed0-40ca21c173ac
DTSTART:20270724T150000Z
DTEND:20270724T180000Z
LOCATION:Localisation   
CATEGORIES:Sportif
STATUS:
URL;VALUE=URI:https://archers-de-quimperle.sportsregions.fr/evenements/2027/07/24/entrainement-libre-2428311
END:VEVENT
END:VCALENDAR
