BEGIN:VCALENDAR
VERSION:2.0
PRODID:-//hacksw/handcal//NONSGML v1.0//EN
BEGIN:VEVENT
SUMMARY:Cours deuxieme et +
UID:6772c6bc-bb1c-41f1-b610-8000f6238cc6
DTSTART:20270731T133000Z
DTEND:20270731T150000Z
LOCATION:Localisation   
CATEGORIES:Sportif
STATUS:
URL;VALUE=URI:https://archers-de-quimperle.sportsregions.fr/evenements/2027/07/31/cours-deuxieme-et-2428156
END:VEVENT
END:VCALENDAR
