BEGIN:VCALENDAR
VERSION:2.0
PRODID:-//hacksw/handcal//NONSGML v1.0//EN
BEGIN:VEVENT
SUMMARY:Cours premiere annee
UID:639a75e2-51d6-4fe5-9db3-a49a13456acb
DTSTART:20270731T120000Z
DTEND:20270731T133000Z
LOCATION:Localisation   
CATEGORIES:Sportif
STATUS:
URL;VALUE=URI:https://archers-de-quimperle.sportsregions.fr/evenements/2027/07/31/cours-premiere-annee-2428002
END:VEVENT
END:VCALENDAR
