BEGIN:VCALENDAR
VERSION:2.0
PRODID:-//hacksw/handcal//NONSGML v1.0//EN
BEGIN:VEVENT
SUMMARY:Entrainement libre
UID:01b8e360-8e49-4161-986e-73ae2f7765e7
DTSTART:20270731T150000Z
DTEND:20270731T180000Z
LOCATION:Localisation   
CATEGORIES:Sportif
STATUS:
URL;VALUE=URI:https://archers-de-quimperle.sportsregions.fr/evenements/2027/07/31/entrainement-libre-2428310
END:VEVENT
END:VCALENDAR
