BEGIN:VCALENDAR
VERSION:2.0
PRODID:-//hacksw/handcal//NONSGML v1.0//EN
BEGIN:VEVENT
SUMMARY:Entrainement libre
UID:9778e299-356e-4563-b2c5-ff415fbfa549
DTSTART:20270807T150000Z
DTEND:20270807T180000Z
LOCATION:Localisation   
CATEGORIES:Sportif
STATUS:
URL;VALUE=URI:https://archers-de-quimperle.sportsregions.fr/evenements/2027/08/07/entrainement-libre-2428309
END:VEVENT
END:VCALENDAR
