BEGIN:VCALENDAR
VERSION:2.0
PRODID:-//hacksw/handcal//NONSGML v1.0//EN
BEGIN:VEVENT
SUMMARY:Cours deuxieme et +
UID:fc37507c-ccd8-4021-83d7-a60b6d69595e
DTSTART:20270814T133000Z
DTEND:20270814T150000Z
LOCATION:Localisation   
CATEGORIES:Sportif
STATUS:
URL;VALUE=URI:https://archers-de-quimperle.sportsregions.fr/evenements/2027/08/14/cours-deuxieme-et-2428154
END:VEVENT
END:VCALENDAR
