BEGIN:VCALENDAR
VERSION:2.0
PRODID:-//hacksw/handcal//NONSGML v1.0//EN
BEGIN:VEVENT
SUMMARY:Cours premiere annee
UID:e772a196-c1d0-4b2f-a095-43ebc9d88064
DTSTART:20270814T120000Z
DTEND:20270814T133000Z
LOCATION:Localisation   
CATEGORIES:Sportif
STATUS:
URL;VALUE=URI:https://archers-de-quimperle.sportsregions.fr/evenements/2027/08/14/cours-premiere-annee-2428000
END:VEVENT
END:VCALENDAR
