BEGIN:VCALENDAR
VERSION:2.0
PRODID:-//hacksw/handcal//NONSGML v1.0//EN
BEGIN:VEVENT
SUMMARY:Entrainement libre
UID:8020525f-b450-469b-95d2-c65a777eaab1
DTSTART:20270814T150000Z
DTEND:20270814T180000Z
LOCATION:Localisation   
CATEGORIES:Sportif
STATUS:
URL;VALUE=URI:https://archers-de-quimperle.sportsregions.fr/evenements/2027/08/14/entrainement-libre-2428308
END:VEVENT
END:VCALENDAR
