BEGIN:VCALENDAR
VERSION:2.0
PRODID:-//hacksw/handcal//NONSGML v1.0//EN
BEGIN:VEVENT
SUMMARY:Cours deuxieme et +
UID:6dfc4570-4e5b-40c0-be63-23a7bf93516c
DTSTART:20270821T133000Z
DTEND:20270821T150000Z
LOCATION:Localisation   
CATEGORIES:Sportif
STATUS:
URL;VALUE=URI:https://archers-de-quimperle.sportsregions.fr/evenements/2027/08/21/cours-deuxieme-et-2428162
END:VEVENT
END:VCALENDAR
