BEGIN:VCALENDAR
VERSION:2.0
PRODID:-//hacksw/handcal//NONSGML v1.0//EN
BEGIN:VEVENT
SUMMARY:Entrainement libre
UID:5aa47931-14d5-495d-a2eb-450474f356cf
DTSTART:20270821T150000Z
DTEND:20270821T180000Z
LOCATION:Localisation   
CATEGORIES:Sportif
STATUS:
URL;VALUE=URI:https://archers-de-quimperle.sportsregions.fr/evenements/2027/08/21/entrainement-libre-2428316
END:VEVENT
END:VCALENDAR
