BEGIN:VCALENDAR
VERSION:2.0
PRODID:-//hacksw/handcal//NONSGML v1.0//EN
BEGIN:VEVENT
SUMMARY:Cours deuxieme et +
UID:f0602c64-26dd-4246-b52e-597bd0a3b3d2
DTSTART:20270828T133000Z
DTEND:20270828T150000Z
LOCATION:Localisation   
CATEGORIES:Sportif
STATUS:
URL;VALUE=URI:https://archers-de-quimperle.sportsregions.fr/evenements/2027/08/28/cours-deuxieme-et-2428235
END:VEVENT
END:VCALENDAR
