BEGIN:VCALENDAR
VERSION:2.0
PRODID:-//hacksw/handcal//NONSGML v1.0//EN
BEGIN:VEVENT
SUMMARY:Cours premiere annee
UID:f4e5d0e5-d72b-471e-9757-c7a005b45265
DTSTART:20270828T120000Z
DTEND:20270828T133000Z
LOCATION:Localisation   
CATEGORIES:Sportif
STATUS:
URL;VALUE=URI:https://archers-de-quimperle.sportsregions.fr/evenements/2027/08/28/cours-premiere-annee-2428081
END:VEVENT
END:VCALENDAR
