BEGIN:VCALENDAR
VERSION:2.0
PRODID:-//hacksw/handcal//NONSGML v1.0//EN
BEGIN:VEVENT
SUMMARY:Entrainement libre
UID:0c23b8ec-d103-4f4d-af75-d526ed67db88
DTSTART:20270828T150000Z
DTEND:20270828T180000Z
LOCATION:Localisation   
CATEGORIES:Sportif
STATUS:
URL;VALUE=URI:https://archers-de-quimperle.sportsregions.fr/evenements/2027/08/28/entrainement-libre-2428390
END:VEVENT
END:VCALENDAR
