BEGIN:VCALENDAR
VERSION:2.0
PRODID:-//hacksw/handcal//NONSGML v1.0//EN
BEGIN:VEVENT
SUMMARY:Cours premiere annee
UID:ba83237f-b761-483d-b1bf-eabe6d7ef9e9
DTSTART:20270904T120000Z
DTEND:20270904T133000Z
LOCATION:Localisation   
CATEGORIES:Sportif
STATUS:
URL;VALUE=URI:https://archers-de-quimperle.sportsregions.fr/evenements/2027/09/04/cours-premiere-annee-2428009
END:VEVENT
END:VCALENDAR
