BEGIN:VCALENDAR
VERSION:2.0
PRODID:-//hacksw/handcal//NONSGML v1.0//EN
BEGIN:VEVENT
SUMMARY:Entrainement libre
UID:dca7828a-09f1-40fd-833d-0c0a34aa1340
DTSTART:20270904T150000Z
DTEND:20270904T180000Z
LOCATION:Localisation   
CATEGORIES:Sportif
STATUS:
URL;VALUE=URI:https://archers-de-quimperle.sportsregions.fr/evenements/2027/09/04/entrainement-libre-2428317
END:VEVENT
END:VCALENDAR
