BEGIN:VCALENDAR
VERSION:2.0
PRODID:-//hacksw/handcal//NONSGML v1.0//EN
BEGIN:VEVENT
SUMMARY:Cours deuxieme et +
UID:9be88c3e-e51f-417c-a94c-7ebda17dc7a6
DTSTART:20270911T133000Z
DTEND:20270911T150000Z
LOCATION:Localisation   
CATEGORIES:Sportif
STATUS:
URL;VALUE=URI:https://archers-de-quimperle.sportsregions.fr/evenements/2027/09/11/cours-deuxieme-et-2428173
END:VEVENT
END:VCALENDAR
