BEGIN:VCALENDAR
VERSION:2.0
PRODID:-//hacksw/handcal//NONSGML v1.0//EN
BEGIN:VEVENT
SUMMARY:Cours premiere annee
UID:1fee6686-b233-4711-9ef9-2e3273c83592
DTSTART:20270911T120000Z
DTEND:20270911T133000Z
LOCATION:Localisation   
CATEGORIES:Sportif
STATUS:
URL;VALUE=URI:https://archers-de-quimperle.sportsregions.fr/evenements/2027/09/11/cours-premiere-annee-2428019
END:VEVENT
END:VCALENDAR
