BEGIN:VCALENDAR
VERSION:2.0
PRODID:-//hacksw/handcal//NONSGML v1.0//EN
BEGIN:VEVENT
SUMMARY:Entrainement libre
UID:ae55113d-86ce-4282-80cd-ebc3117479d1
DTSTART:20270911T150000Z
DTEND:20270911T180000Z
LOCATION:Localisation   
CATEGORIES:Sportif
STATUS:
URL;VALUE=URI:https://archers-de-quimperle.sportsregions.fr/evenements/2027/09/11/entrainement-libre-2428327
END:VEVENT
END:VCALENDAR
