BEGIN:VCALENDAR
VERSION:2.0
PRODID:-//hacksw/handcal//NONSGML v1.0//EN
BEGIN:VEVENT
SUMMARY:Cours premiere annee
UID:c09a4bca-8e7b-46b7-bfce-1fffdba1d400
DTSTART:20270918T120000Z
DTEND:20270918T133000Z
LOCATION:Localisation   
CATEGORIES:Sportif
STATUS:
URL;VALUE=URI:https://archers-de-quimperle.sportsregions.fr/evenements/2027/09/18/cours-premiere-annee-2428029
END:VEVENT
END:VCALENDAR
