BEGIN:VCALENDAR
VERSION:2.0
PRODID:-//hacksw/handcal//NONSGML v1.0//EN
BEGIN:VEVENT
SUMMARY:Entrainement libre
UID:ab547410-224d-4dcd-b311-75fddcc53616
DTSTART:20270918T150000Z
DTEND:20270918T180000Z
LOCATION:Localisation   
CATEGORIES:Sportif
STATUS:
URL;VALUE=URI:https://archers-de-quimperle.sportsregions.fr/evenements/2027/09/18/entrainement-libre-2428337
END:VEVENT
END:VCALENDAR
