BEGIN:VCALENDAR
VERSION:2.0
PRODID:-//hacksw/handcal//NONSGML v1.0//EN
BEGIN:VEVENT
SUMMARY:Cours deuxieme et +
UID:7b87856a-5357-4765-84f0-5d1147618e3c
DTSTART:20270925T133000Z
DTEND:20270925T150000Z
LOCATION:Localisation   
CATEGORIES:Sportif
STATUS:
URL;VALUE=URI:https://archers-de-quimperle.sportsregions.fr/evenements/2027/09/25/cours-deuxieme-et-2428171
END:VEVENT
END:VCALENDAR
