BEGIN:VCALENDAR
VERSION:2.0
PRODID:-//hacksw/handcal//NONSGML v1.0//EN
BEGIN:VEVENT
SUMMARY:Cours premiere annee
UID:3ffa02f8-5d83-455b-8970-3f33f2247f56
DTSTART:20270925T120000Z
DTEND:20270925T133000Z
LOCATION:Localisation   
CATEGORIES:Sportif
STATUS:
URL;VALUE=URI:https://archers-de-quimperle.sportsregions.fr/evenements/2027/09/25/cours-premiere-annee-2428017
END:VEVENT
END:VCALENDAR
