BEGIN:VCALENDAR
VERSION:2.0
PRODID:-//hacksw/handcal//NONSGML v1.0//EN
BEGIN:VEVENT
SUMMARY:Cours deuxieme et +
UID:9104d52b-576e-462d-aaaa-3640f3b2ca57
DTSTART:20271002T133000Z
DTEND:20271002T150000Z
LOCATION:Localisation   
CATEGORIES:Sportif
STATUS:
URL;VALUE=URI:https://archers-de-quimperle.sportsregions.fr/evenements/2027/10/02/cours-deuxieme-et-2428170
END:VEVENT
END:VCALENDAR
