BEGIN:VCALENDAR
VERSION:2.0
PRODID:-//hacksw/handcal//NONSGML v1.0//EN
BEGIN:VEVENT
SUMMARY:Cours premiere annee
UID:5d328b51-bc94-43f0-81cf-d4455837b9d6
DTSTART:20271002T120000Z
DTEND:20271002T133000Z
LOCATION:Localisation   
CATEGORIES:Sportif
STATUS:
URL;VALUE=URI:https://archers-de-quimperle.sportsregions.fr/evenements/2027/10/02/cours-premiere-annee-2428016
END:VEVENT
END:VCALENDAR
