BEGIN:VCALENDAR
VERSION:2.0
PRODID:-//hacksw/handcal//NONSGML v1.0//EN
BEGIN:VEVENT
SUMMARY:Entrainement libre
UID:83d06643-3692-428a-a1a3-0e84120aec87
DTSTART:20271002T150000Z
DTEND:20271002T180000Z
LOCATION:Localisation   
CATEGORIES:Sportif
STATUS:
URL;VALUE=URI:https://archers-de-quimperle.sportsregions.fr/evenements/2027/10/02/entrainement-libre-2428324
END:VEVENT
END:VCALENDAR
