BEGIN:VCALENDAR
VERSION:2.0
PRODID:-//hacksw/handcal//NONSGML v1.0//EN
BEGIN:VEVENT
SUMMARY:Cours deuxieme et +
UID:09b09869-100f-4ebe-ac44-3476dc2a8d2f
DTSTART:20271009T133000Z
DTEND:20271009T150000Z
LOCATION:Localisation   
CATEGORIES:Sportif
STATUS:
URL;VALUE=URI:https://archers-de-quimperle.sportsregions.fr/evenements/2027/10/09/cours-deuxieme-et-2428168
END:VEVENT
END:VCALENDAR
