BEGIN:VCALENDAR
VERSION:2.0
PRODID:-//hacksw/handcal//NONSGML v1.0//EN
BEGIN:VEVENT
SUMMARY:Cours premiere annee
UID:4a730434-0382-421c-98cb-a936659af940
DTSTART:20271009T120000Z
DTEND:20271009T133000Z
LOCATION:Localisation   
CATEGORIES:Sportif
STATUS:
URL;VALUE=URI:https://archers-de-quimperle.sportsregions.fr/evenements/2027/10/09/cours-premiere-annee-2428014
END:VEVENT
END:VCALENDAR
