BEGIN:VCALENDAR
VERSION:2.0
PRODID:-//hacksw/handcal//NONSGML v1.0//EN
BEGIN:VEVENT
SUMMARY:Entrainement libre
UID:9cfce2f8-b523-4c4e-9329-449ba7cab267
DTSTART:20271009T150000Z
DTEND:20271009T180000Z
LOCATION:Localisation   
CATEGORIES:Sportif
STATUS:
URL;VALUE=URI:https://archers-de-quimperle.sportsregions.fr/evenements/2027/10/09/entrainement-libre-2428322
END:VEVENT
END:VCALENDAR
