BEGIN:VCALENDAR
VERSION:2.0
PRODID:-//hacksw/handcal//NONSGML v1.0//EN
BEGIN:VEVENT
SUMMARY:Cours deuxieme et +
UID:43e12c15-92af-4a14-ac1a-6098254481aa
DTSTART:20271016T133000Z
DTEND:20271016T150000Z
LOCATION:Localisation   
CATEGORIES:Sportif
STATUS:
URL;VALUE=URI:https://archers-de-quimperle.sportsregions.fr/evenements/2027/10/16/cours-deuxieme-et-2428167
END:VEVENT
END:VCALENDAR
