BEGIN:VCALENDAR
VERSION:2.0
PRODID:-//hacksw/handcal//NONSGML v1.0//EN
BEGIN:VEVENT
SUMMARY:Cours premiere annee
UID:4c78282d-a6f6-4a4c-8124-27ba121f836a
DTSTART:20271016T120000Z
DTEND:20271016T133000Z
LOCATION:Localisation   
CATEGORIES:Sportif
STATUS:
URL;VALUE=URI:https://archers-de-quimperle.sportsregions.fr/evenements/2027/10/16/cours-premiere-annee-2428013
END:VEVENT
END:VCALENDAR
