BEGIN:VCALENDAR
VERSION:2.0
PRODID:-//hacksw/handcal//NONSGML v1.0//EN
BEGIN:VEVENT
SUMMARY:Cours deuxieme et +
UID:e7f3ff58-c87d-4fa1-8335-cad9022dacbc
DTSTART:20271023T133000Z
DTEND:20271023T150000Z
LOCATION:Localisation   
CATEGORIES:Sportif
STATUS:
URL;VALUE=URI:https://archers-de-quimperle.sportsregions.fr/evenements/2027/10/23/cours-deuxieme-et-2428166
END:VEVENT
END:VCALENDAR
