BEGIN:VCALENDAR
VERSION:2.0
PRODID:-//hacksw/handcal//NONSGML v1.0//EN
BEGIN:VEVENT
SUMMARY:Cours premiere annee
UID:fb8eaf6e-c876-44dc-b20f-df999247c128
DTSTART:20271023T120000Z
DTEND:20271023T133000Z
LOCATION:Localisation   
CATEGORIES:Sportif
STATUS:
URL;VALUE=URI:https://archers-de-quimperle.sportsregions.fr/evenements/2027/10/23/cours-premiere-annee-2428012
END:VEVENT
END:VCALENDAR
