BEGIN:VCALENDAR
VERSION:2.0
PRODID:-//hacksw/handcal//NONSGML v1.0//EN
BEGIN:VEVENT
SUMMARY:Entrainement libre
UID:139a6c58-fa16-4965-a26d-5000a48e2976
DTSTART:20271023T150000Z
DTEND:20271023T180000Z
LOCATION:Localisation   
CATEGORIES:Sportif
STATUS:
URL;VALUE=URI:https://archers-de-quimperle.sportsregions.fr/evenements/2027/10/23/entrainement-libre-2428320
END:VEVENT
END:VCALENDAR
