BEGIN:VCALENDAR
VERSION:2.0
PRODID:-//hacksw/handcal//NONSGML v1.0//EN
BEGIN:VEVENT
SUMMARY:Cours deuxieme et +
UID:66423dba-a260-4829-9d7a-fc0b98fcd609
DTSTART:20271030T133000Z
DTEND:20271030T150000Z
LOCATION:Localisation   
CATEGORIES:Sportif
STATUS:
URL;VALUE=URI:https://archers-de-quimperle.sportsregions.fr/evenements/2027/10/30/cours-deuxieme-et-2428165
END:VEVENT
END:VCALENDAR
